BEGIN:VCALENDAR
VERSION:2.0
PRODID:-//Department of Agriculture and Forestry - ECPv5.4.0.2//NONSGML v1.0//EN
CALSCALE:GREGORIAN
METHOD:PUBLISH
X-WR-CALNAME:Department of Agriculture and Forestry
X-ORIGINAL-URL:https://www.ldaf.state.la.us
X-WR-CALDESC:Events for Department of Agriculture and Forestry
BEGIN:VTIMEZONE
TZID:UTC
BEGIN:STANDARD
TZOFFSETFROM:+0000
TZOFFSETTO:+0000
TZNAME:UTC
DTSTART:20210101T000000
END:STANDARD
END:VTIMEZONE
BEGIN:VEVENT
DTSTART;TZID=UTC:20210318T070000
DTEND;TZID=UTC:20210318T140000
DTSTAMP:20210524T023310
CREATED:20210311T161620Z
LAST-MODIFIED:20210311T161620Z
UID:9955-1616050800-1616076000@www.ldaf.state.la.us
SUMMARY:SPC Technician Recertification
DESCRIPTION:Categories Approved for Recertification: GPC\, CVC\, TC\, WDIR –  Technician\nAttendee must be present for the entire meeting to receive credit. \nHosted By: New Orleans Mosquito & Termite Control Board \nAGENDA
URL:https://www.ldaf.state.la.us/event/spc-technician-recertification-3/
LOCATION:City of New Orleans Mosquito & Termite Control Board\, 2100 Leon C. Simon\, New Orleans\, LA\, 70122
CATEGORIES:Structural Pest Control Re-certification & Training
END:VEVENT
END:VCALENDAR