BEGIN:VCALENDAR
VERSION:2.0
PRODID:-//Department of Agriculture and Forestry - ECPv5.4.0.2//NONSGML v1.0//EN
CALSCALE:GREGORIAN
METHOD:PUBLISH
X-WR-CALNAME:Department of Agriculture and Forestry
X-ORIGINAL-URL:https://www.ldaf.state.la.us
X-WR-CALDESC:Events for Department of Agriculture and Forestry
BEGIN:VTIMEZONE
TZID:UTC
BEGIN:STANDARD
TZOFFSETFROM:+0000
TZOFFSETTO:+0000
TZNAME:UTC
DTSTART:20200101T000000
END:STANDARD
END:VTIMEZONE
BEGIN:VEVENT
DTSTART;TZID=UTC:20201118T073000
DTEND;TZID=UTC:20201118T153000
DTSTAMP:20210604T112353
CREATED:20200922T153606Z
LAST-MODIFIED:20201117T152342Z
UID:9555-1605684600-1605713400@www.ldaf.state.la.us
SUMMARY:CANCELLED -SPC Licensee & Technician Recertification
DESCRIPTION:THIS RECERTIFICATION MEETING HAS BEEN CANCELLED. \nCategories Approved for Recertification: GPC\, CVC\, TC – Licensee & Technician\nAttendee must be present for the entire meeting to receive credit. \nHosted By: GNOPCA & NO Mosquito & Termite Control Board \nAGENDA
URL:https://www.ldaf.state.la.us/event/spc-licensee-technician-recertification-7/
LOCATION:City of New Orleans Mosquito & Termite Control Board\, 2100 Leon C. Simon\, New Orleans\, LA\, 70122
CATEGORIES:Structural Pest Control Re-certification & Training
ORGANIZER;CN="NOMTCB%20%2F%20Claudia%20Riegel":MAILTO:criegel@nola.gov
END:VEVENT
BEGIN:VEVENT
DTSTART;TZID=UTC:20201118T100000
DTEND;TZID=UTC:20201118T123000
DTSTAMP:20210604T112353
CREATED:20201116T225307Z
LAST-MODIFIED:20201117T182125Z
UID:9677-1605693600-1605702600@www.ldaf.state.la.us
SUMMARY:Louisiana Agricultural Finance Authority Meeting Notice
DESCRIPTION:The Louisiana Agricultural Finance Authority will meet at 10 a.m. on November 18\, 2020. This meeting will be available via videoconference and teleconference. \nIn accordance with Revised Statute 42:17.1\, the Louisiana Agricultural Finance Authority will be meeting via teleconference/Google Meets in order to discuss  “matters critical to the continuation of the business of the public body that are not able to be postponed to a meeting held in accordance with the other provisions of this Chapter due to a legal requirement or other deadline that cannot be postponed or delayed by the public body.” \nMembers of the public are encouraged to provide comments prior to or during the meeting by emailing Melanie Tullier at mtullier@ldaf.state.la.us and/or through the Google Meet chat function. \nTo view the meeting agenda\, CLICK HERE. \nGoogle Meets line (join from PC\, Mac\, Linux\, iOS\, or Android): meet.google.com/wwj-zjmv-ggp\nBy Teleconference: Dial: 1-224-572-8677\nPIN: 714 250 534#
URL:https://www.ldaf.state.la.us/event/louisiana-agricultural-finance-authority-meeting-notice/
LOCATION:Louisiana
ORGANIZER;CN="Melanie%20Tullier":MAILTO:mtullier@ldaf.state.la.us
END:VEVENT
END:VCALENDAR