BEGIN:VCALENDAR
VERSION:2.0
PRODID:-//Department of Agriculture and Forestry - ECPv5.4.0.2//NONSGML v1.0//EN
CALSCALE:GREGORIAN
METHOD:PUBLISH
X-WR-CALNAME:Department of Agriculture and Forestry
X-ORIGINAL-URL:https://www.ldaf.state.la.us
X-WR-CALDESC:Events for Department of Agriculture and Forestry
BEGIN:VTIMEZONE
TZID:UTC
BEGIN:STANDARD
TZOFFSETFROM:+0000
TZOFFSETTO:+0000
TZNAME:UTC
DTSTART:20200101T000000
END:STANDARD
END:VTIMEZONE
BEGIN:VEVENT
DTSTART;TZID=UTC:20201217T093000
DTEND;TZID=UTC:20201217T100000
DTSTAMP:20210525T112311
CREATED:20201215T205933Z
LAST-MODIFIED:20201215T205933Z
UID:9743-1608197400-1608199200@www.ldaf.state.la.us
SUMMARY:Structural Pest Control Commission Meeting
DESCRIPTION:AGENDA \nJoin from PC\, Mac\, Linux\, iOS or Android: https://us02web.zoom.us/j/ 88666475079?pwd= QTc1dm1pYUpManVRUmNhYnNaTlhXZz 09\nPassword: 546864 \nOr Telephone:\nDial:\nUSA 636 651 0002\nUSA 8773361829 (US Toll Free)\nConference code: 812911
URL:https://www.ldaf.state.la.us/event/structural-pest-control-commission-meeting/
LOCATION:LDAF – Veterans Memorial Auditorium\, 5825 Florida Blvd.\, Baton Rouge\, LA\, 70806
CATEGORIES:Board or Commission Meeting
END:VEVENT
END:VCALENDAR