BEGIN:VCALENDAR
VERSION:2.0
PRODID:-//Department of Agriculture and Forestry - ECPv5.4.0.2//NONSGML v1.0//EN
CALSCALE:GREGORIAN
METHOD:PUBLISH
X-WR-CALNAME:Department of Agriculture and Forestry
X-ORIGINAL-URL:https://www.ldaf.state.la.us
X-WR-CALDESC:Events for Department of Agriculture and Forestry
BEGIN:VTIMEZONE
TZID:UTC
BEGIN:STANDARD
TZOFFSETFROM:+0000
TZOFFSETTO:+0000
TZNAME:UTC
DTSTART:20210101T000000
END:STANDARD
END:VTIMEZONE
BEGIN:VEVENT
DTSTART;TZID=UTC:20210629T093000
DTEND;TZID=UTC:20210629T120000
DTSTAMP:20210704T184546
CREATED:20210625T223200Z
LAST-MODIFIED:20210625T223200Z
UID:10437-1624959000-1624968000@www.ldaf.state.la.us
SUMMARY:Structural Pest Control Commission Meeting
DESCRIPTION:NOTICE OF MEETING \nLOUISIANA STRUCTURAL PEST CONTROL COMMISSION \nLouisiana Department of Agriculture & Forestry \nVeterans’ Memorial Auditorium \n5825 Florida Boulevard\, Baton Rouge\, LA \nJune 29\, 2021 – 9:30 AM
URL:https://www.ldaf.state.la.us/event/structural-pest-control-commission-meeting-4/
LOCATION:LDAF Headquarters\, 5825 Florida Blvd.\, Baton Rouge\, 70806
END:VEVENT
END:VCALENDAR