BEGIN:VCALENDAR
VERSION:2.0
PRODID:-//Department of Agriculture and Forestry - ECPv5.4.0.2//NONSGML v1.0//EN
CALSCALE:GREGORIAN
METHOD:PUBLISH
X-WR-CALNAME:Department of Agriculture and Forestry
X-ORIGINAL-URL:https://www.ldaf.state.la.us
X-WR-CALDESC:Events for Department of Agriculture and Forestry
BEGIN:VTIMEZONE
TZID:UTC
BEGIN:STANDARD
TZOFFSETFROM:+0000
TZOFFSETTO:+0000
TZNAME:UTC
DTSTART:20200101T000000
END:STANDARD
END:VTIMEZONE
BEGIN:VEVENT
DTSTART;TZID=UTC:20201111T073000
DTEND;TZID=UTC:20201111T153000
DTSTAMP:20210528T035751
CREATED:20200922T153449Z
LAST-MODIFIED:20200922T153449Z
UID:9554-1605079800-1605108600@www.ldaf.state.la.us
SUMMARY:SPC Licensee & Technician Recertification
DESCRIPTION:Categories Approved for Recertification: GPC\, CVC\, TC – Licensee & Technician\nAttendee must be present for the entire meeting to receive credit. \nHosted By: GNOPCA & NO Mosquito & Termite Control Board \nAGENDA
URL:https://www.ldaf.state.la.us/event/spc-licensee-technician-recertification-6/
LOCATION:City of New Orleans Mosquito & Termite Control Board\, 2100 Leon C. Simon\, New Orleans\, LA\, 70122
CATEGORIES:Structural Pest Control Re-certification & Training
ORGANIZER;CN="NOMTCB%20%2F%20Claudia%20Riegel":MAILTO:criegel@nola.gov
END:VEVENT
END:VCALENDAR